BEGIN:VCALENDAR
VERSION:2.0
PRODID:-//GVFS - ECPv6.15.20//NONSGML v1.0//EN
CALSCALE:GREGORIAN
METHOD:PUBLISH
X-ORIGINAL-URL:https://gvfs.ca
X-WR-CALDESC:Events for GVFS
REFRESH-INTERVAL;VALUE=DURATION:PT1H
X-Robots-Tag:noindex
X-PUBLISHED-TTL:PT1H
BEGIN:VTIMEZONE
TZID:UTC
BEGIN:STANDARD
TZOFFSETFROM:+0000
TZOFFSETTO:+0000
TZNAME:UTC
DTSTART:20230101T000000
END:STANDARD
END:VTIMEZONE
BEGIN:VEVENT
DTSTART;TZID=UTC:20241027T110000
DTEND;TZID=UTC:20241027T150000
DTSTAMP:20260421T113911
CREATED:20230827T224407Z
LAST-MODIFIED:20241002T174534Z
UID:184-1730026800-1730041200@gvfs.ca
SUMMARY:10th Annual Thrifty Foods Wicked Victoria Presented by CHEK
DESCRIPTION:Greater Victoria Festival Society presents our 10th Annual Wicked Victoria!\nWe are excited to bring you Wicked Victoria 2024! \nTHE GVFS wants to support our community in every way possible and will be hosting Wicked Victoria festivities in 2024 including bringing back our 2020 launch of ‘Wicked Week!’ \nOn Sunday\, October 27th we will kick things off in a Wickedly Wonderful Way! \nOctober 27th\, 2024 11am to 3pm Government Street (Yates to Broughton) \nWe look forward to welcoming everyone back for a Spooktacular Wicked Victoria 2024! \nWe want to bring as much JOY and FUN to our community whilst still promoting our awesome downtown Government Street merchants. \nWICKED WEEK will begin on October 27th with some Spooktacular FUN! Wicked Week is brought to you by the Greater Victoria Festival Society. \nLET’S HAVE SOME WICKED FUN TOGETHER! \nFOLLOW US ON SOCIAL FOR MORE UPDATES! \nView Vendor Application Here
URL:https://gvfs.ca/event/10th-annual-thrifty-foods-wicked-victoria/
LOCATION:Government Street (Yates to Fort)
ATTACH;FMTTYPE=image/jpeg:https://gvfs.ca/wp-content/uploads/2023/08/gvfs-victoria-bc-wicked-victoria-1.jpg
END:VEVENT
END:VCALENDAR