BEGIN:VCALENDAR
VERSION:2.0
PRODID:-//GVFS - ECPv6.15.20//NONSGML v1.0//EN
CALSCALE:GREGORIAN
METHOD:PUBLISH
X-WR-CALNAME:GVFS
X-ORIGINAL-URL:https://gvfs.ca
X-WR-CALDESC:Events for GVFS
REFRESH-INTERVAL;VALUE=DURATION:PT1H
X-Robots-Tag:noindex
X-PUBLISHED-TTL:PT1H
BEGIN:VTIMEZONE
TZID:UTC
BEGIN:STANDARD
TZOFFSETFROM:+0000
TZOFFSETTO:+0000
TZNAME:UTC
DTSTART:20190101T000000
END:STANDARD
END:VTIMEZONE
BEGIN:VEVENT
DTSTART;TZID=UTC:20200315T170000
DTEND;TZID=UTC:20200315T170000
DTSTAMP:20260421T230253
CREATED:20230827T224645Z
LAST-MODIFIED:20230831T223105Z
UID:196-1584291600-1584291600@gvfs.ca
SUMMARY:St Patrick's Family Fun Day
DESCRIPTION:Date: March 15th\nTime: Noon to 5pm\nLocation: Market Square \nSponsored by The Irish Times Pub \nJoin us in Market Square on March 15th for our 3rd Annual Saint Patrick’s Family Fun Day! \nThis is a FREE Community Event graciously and generously sponsored by the wonderful folks at Irish Times Pub! \nLive Entertainment (Irish Dancers\, Celtic Band Cookeilidh – Celtic Music\, performances by Daniel Lapp and much more!)\nFood Vendors (with an Irish theme to them)\nIrish Crafting Station\nIrish Vendors\nBalloon Art\nFace Painting\nBouncy Castle Fun! \nDress in your “Leprechaun Best” and bring the kids down for some awesome fun!
URL:https://gvfs.ca/event/st-patricks-family-fun-day/
LOCATION:Market Square\, Market Square
ATTACH;FMTTYPE=image/png:https://gvfs.ca/wp-content/uploads/2023/08/ST-PATRICKS-FAMILY-FUN-DAY-POSTER-thumb.png
END:VEVENT
END:VCALENDAR