BEGIN:VCALENDAR
VERSION:2.0
PRODID:-//GVFS - ECPv6.15.20//NONSGML v1.0//EN
CALSCALE:GREGORIAN
METHOD:PUBLISH
X-ORIGINAL-URL:https://gvfs.ca
X-WR-CALDESC:Events for GVFS
REFRESH-INTERVAL;VALUE=DURATION:PT1H
X-Robots-Tag:noindex
X-PUBLISHED-TTL:PT1H
BEGIN:VTIMEZONE
TZID:UTC
BEGIN:STANDARD
TZOFFSETFROM:+0000
TZOFFSETTO:+0000
TZNAME:UTC
DTSTART:20250101T000000
END:STANDARD
END:VTIMEZONE
BEGIN:VEVENT
DTSTART;VALUE=DATE:20261025
DTEND;VALUE=DATE:20261026
DTSTAMP:20260422T005256
CREATED:20250429T011848Z
LAST-MODIFIED:20260221T072437Z
UID:1082-1792886400-1792972799@gvfs.ca
SUMMARY:12th Annual Thrifty Foods Wicked Victoria Presented by CHEK
DESCRIPTION:🎃 Downtown Victoria’s Ultimate Halloween Festival! 👻 \nJoin us for the 12th Thrifty Foods Wicked Victoria on Sunday\, October 25\, 2026\, as Government Street transforms into a spooktacular Halloween celebration! This free\, family-friendly festival is the perfect way to kick off Halloween week with thrilling entertainment\, lively performances\, interactive activities\, and plenty of treats! \nA Wickedly Fun Experience for All Ages\nStep into a Halloween wonderland filled with costumed characters\, live music\, performances\, and festive vendors! Whether you’re looking for spooky fun or just want to celebrate the season\, there’s something for everyone: \n🎭 Live Entertainment & Performances – Enjoy spine-tingling performances\, including spooky storytelling at Munro’s Books\, as well as music\, dance\, and theatrical acts to keep the energy high all day long! \n  \n \n\n  \n\n\nMain Stage\n\nTime\nPerformance\n\n\n10:30-11:45\nLove Cats\n\n\n12:00-12:30\nMaple Leaf Ballet Thriller\n\n\n12:40-1:10\nVictoria On Stage\n\n\n1:15-1:45\nFiesta Latina\n\n\n2:00-3:30\nStephanie Greaves\n\n\n\nGov’t & Bastion Stage\n\nTime\nGov’t Stage\nBastion Stage\n\n\n10:30-11:30\nAdam Zonnis\nChris Moher\n\n\n11:30-12:30\nLonnie Glass\nMiranda Stewart\n\n\n12:30-1:30\nBen Goerner\nWillis Taylor\n\n\n1:30-2:30\nSarah Wade\nBenson Town\n\n\n2:30-3:30\nHarvey Moon\nBill Holtom\n\n\n\n \n🎃 Costume Fun – Dress in your best Halloween costume and show off your creativity—whether you’re a ghost\, goblin\, witch\, or wizard! \n🍬 Trick-or-Treating – Local vendors and businesses will be handing out treats for kids in a safe\, festive environment. \n🛍️ Nonprofit & Local Vendors – Support local and nonprofit organizations\, including: \n\nLa Société Francophone de Victoria\nVictoria on Stage\n\n🎨 Kid Zone & Activities – Crafts\, face painting\, and Halloween-themed fun for the little ones! \nA Community Celebration\nWicked Victoria was created to bring joy\, excitement\, and community spirit to downtown Victoria each Halloween. We are thrilled to continue this beloved tradition\, inviting families\, friends\, and visitors to experience the magic of the season together. \nGet Involved\nInterested in being a vendor\, performer\, or sponsor? Contact us today to be part of this wickedly fun event! \nSave the Date – October 26\, 2025!\nDon’t miss Victoria’s most thrilling Halloween celebration—we can’t wait to see you there! 🎃👻
URL:https://gvfs.ca/event/wicked-victoria/
LOCATION:Government Street (Yates to Fort)
ATTACH;FMTTYPE=image/jpeg:https://gvfs.ca/wp-content/uploads/2025/04/Colin-Smith-Takes-Pics-2024-101.jpg
END:VEVENT
BEGIN:VEVENT
DTSTART;TZID=UTC:20261128T173000
DTEND;TZID=UTC:20261128T173000
DTSTAMP:20260422T005256
CREATED:20241205T193944Z
LAST-MODIFIED:20260227T232013Z
UID:1027-1795887000-1795887000@gvfs.ca
SUMMARY:44th Peninsula Co-op Santa Claus Parade Presented by CHEK
DESCRIPTION:44th Peninsula Co-op Santa Claus Parade Presented by Chek\nNovember 28\, 2026\, 9 am starting at Belleville and Government \nWe’re thrilled to share that the 44th Annual Peninsula Co-op Santa Claus Parade\n \n\n Giving Back to Our Community\nOnce again\, we are proudly supporting the Mustard Seed Street Church & Food Bank.\nLook for their team at Government & Wharf Street (in front of the Tourism Victoria Visitor Centre) at 5:00 PM. \nBring non-perishable food items or a small cash donation to help local families this holiday season.\n Donate anytime: https://mustardseed.ca/donate \n\n Accessible Parade Viewing + Live Audio Description\nThe Victoria Disability Resource Centre will be hosting an Accessible Viewing Area with live audio description at Government & Wharf Street. \nFor details or to reserve accessible viewing space:\n https://drcvictoria.com/ \n\n Watch the Parade LIVE!\nOur amazing partners at CHEK News will be broadcasting the parade LIVE — and record the magic to enjoy again all season long!  CHEK News – Independent\, employee-owned. \n  \nVendor Application \n  \nBusiness: $180 CAD\nNon-Profit: $100 CAD \n\n\n \n\n\n\n\nParade Registration\n\n\nBusiness $180.00 CADNon Profit $100.00 CAD
URL:https://gvfs.ca/event/43rd-peninsula-co-op-santa-claus-parade/
ATTACH;FMTTYPE=image/jpeg:https://gvfs.ca/wp-content/uploads/2023/08/santa_christmas_parade_14.jpg
END:VEVENT
END:VCALENDAR