BEGIN:VCALENDAR
VERSION:2.0
PRODID:-//GVFS - ECPv6.15.20//NONSGML v1.0//EN
CALSCALE:GREGORIAN
METHOD:PUBLISH
X-WR-CALNAME:GVFS
X-ORIGINAL-URL:https://gvfs.ca
X-WR-CALDESC:Events for GVFS
REFRESH-INTERVAL;VALUE=DURATION:PT1H
X-Robots-Tag:noindex
X-PUBLISHED-TTL:PT1H
BEGIN:VTIMEZONE
TZID:UTC
BEGIN:STANDARD
TZOFFSETFROM:+0000
TZOFFSETTO:+0000
TZNAME:UTC
DTSTART:20250101T000000
END:STANDARD
END:VTIMEZONE
BEGIN:VEVENT
DTSTART;TZID=UTC:20260516T110000
DTEND;TZID=UTC:20260516T180000
DTSTAMP:20260421T084806
CREATED:20240517T185016Z
LAST-MODIFIED:20260415T180700Z
UID:968-1778929200-1778954400@gvfs.ca
SUMMARY:Gordy Dodd's One World Cultural Festival
DESCRIPTION:  \nGORDY DODD’ ONE WORLD CULTURAL FESTIVAL \nSaturday May 16\, 2026 \nVendor Application
URL:https://gvfs.ca/event/gordy-dodds-one-world-cultural-festival/
LOCATION:Legislative Assembly of BC
END:VEVENT
END:VCALENDAR